View In:
ArcGIS JavaScript
ArcGIS Online Map Viewer
ArcGIS Earth
Service Description: EstructuraBase/Feature_cont5
Name: EstructuraBase/Feature_cont5
Description:
Single Fused Map Cache: false
Extent:
XMin: 907844.8125
YMin: 318801.8889000006
XMax: 4082844.8125
YMax: 2349801.8889000006
Spatial Reference: 6372
(6372)
LatestVCSWkid(0)
Initial Extent:
XMin: 907844.8125
YMin: 318801.8889000006
XMax: 4082844.8125
YMax: 2349801.8889000006
Spatial Reference: 6372
(6372)
LatestVCSWkid(0)
Full Extent:
XMin: 907844.8125
YMin: 318801.8889000006
XMax: 4082844.8125
YMax: 2349801.8889000006
Spatial Reference: 6372
(6372)
LatestVCSWkid(0)
Pixel Size X: 1000.0
Pixel Size Y: 1000.0
Band Count: 1
Pixel Type: U4
RasterFunction Infos: {"rasterFunctionInfos": [{
"name": "None",
"description": "",
"help": ""
}]}
Mensuration Capabilities: Basic
Inspection Capabilities:
Has Histograms: true
Has Colormap: false
Has Multi Dimensions : false
Rendering Rule:
Min Scale: 0
Max Scale: 0
Copyright Text:
Service Data Type: esriImageServiceDataTypeGeneric
Min Values: 0
Max Values: 5
Mean Values: 1.6768651173475249
Standard Deviation Values: 1.0997107374848825
Object ID Field:
Fields:
None
Default Mosaic Method: Center
Allowed Mosaic Methods:
SortField:
SortValue: null
Mosaic Operator: First
Default Compression Quality: 75
Default Resampling Method: Bilinear
Max Record Count: null
Max Image Height: 4100
Max Image Width: 15000
Max Download Image Count: null
Max Mosaic Image Count: null
Allow Raster Function: true
Allow Copy: true
Allow Analysis: true
Allow Compute TiePoints: false
Supports Statistics: false
Supports Advanced Queries: false
Use StandardizedQueries: true
Raster Type Infos:
Name: Raster Dataset
Description: Supports all ArcGIS Raster Datasets
Help:
Has Raster Attribute Table: true
Edit Fields Info: null
Ownership Based AccessControl For Rasters: null
Child Resources:
Info
Raster Attribute Table
Histograms
Statistics
Key Properties
Legend
Raster Function Infos
Supported Operations:
Export Image
Identify
Measure
Compute Histograms
Compute Statistics Histograms
Get Samples
Compute Class Statistics
Query Boundary
Compute Pixel Location
Compute Angles
Validate
Project