{
 "currentVersion": 11.4,
 "serviceDescription": "EstructuraBase/Feature_cont5",
 "name": "EstructuraBase/Feature_cont5",
 "description": "",
 "extent": {
  "xmin": 907844.8125,
  "ymin": 318801.8889000006,
  "xmax": 4082844.8125,
  "ymax": 2349801.8889000006,
  "spatialReference": {
   "wkid": 6372,
   "latestWkid": 6372
  }
 },
 "initialExtent": {
  "xmin": 907844.8125,
  "ymin": 318801.8889000006,
  "xmax": 4082844.8125,
  "ymax": 2349801.8889000006,
  "spatialReference": {
   "wkid": 6372,
   "latestWkid": 6372
  }
 },
 "fullExtent": {
  "xmin": 907844.8125,
  "ymin": 318801.8889000006,
  "xmax": 4082844.8125,
  "ymax": 2349801.8889000006,
  "spatialReference": {
   "wkid": 6372,
   "latestWkid": 6372
  }
 },
 "sortableFields": "",
 "bandCount": 1,
 "pixelType": "U4",
 "minValues": [
  0
 ],
 "maxValues": [
  5
 ],
 "meanValues": [
  1.6768651173475249
 ],
 "stdvValues": [
  1.0997107374848825
 ],
 "hasMultidimensions": false,
 "pixelSizeX": 1000,
 "pixelSizeY": 1000,
 "meanPixelSize": 1000,
 "datasetFormat": "FGDBR",
 "uncompressedSize": 3224213,
 "blockWidth": 128,
 "blockHeight": 128,
 "compressionType": "LZ77",
 "bandNames": [
  "Band_1"
 ],
 "allowCopy": true,
 "allowAnalysis": true,
 "itemAccess": false,
 "inspectionCapabilities": "",
 "minPixelSize": 0,
 "maxPixelSize": 0,
 "copyrightText": "",
 "serviceDataType": "esriImageServiceDataTypeGeneric",
 "serviceSourceType": "esriImageServiceSourceTypeDataset",
 "objectIdField": "",
 "fields": [],
 "capabilities": "Image,Metadata,Mensuration",
 "defaultMosaicMethod": "Center",
 "allowedMosaicMethods": "",
 "sortField": "",
 "sortValue": null,
 "sortAscending": true,
 "mosaicOperator": "First",
 "defaultCompressionQuality": 75,
 "defaultResamplingMethod": "Bilinear",
 "maxImageHeight": 4100,
 "maxImageWidth": 15000,
 "allowRasterFunction": true,
 "rasterFunctionInfos": [
  {
   "name": "None",
   "description": "",
   "help": ""
  }
 ],
 "rasterTypeInfos": [
  {
   "name": "Raster Dataset",
   "description": "Supports all ArcGIS Raster Datasets",
   "help": ""
  }
 ],
 "mensurationCapabilities": "Basic",
 "hasHistograms": true,
 "hasColormap": false,
 "hasRasterAttributeTable": true,
 "minScale": 0,
 "maxScale": 0,
 "exportTilesAllowed": false,
 "supportsStatistics": false,
 "supportsAdvancedQueries": false,
 "editFieldsInfo": null,
 "ownershipBasedAccessControlForRasters": null,
 "allowComputeTiePoints": false,
 "useStandardizedQueries": true,
 "advancedQueryCapabilities": {
  "useStandardizedQueries": true,
  "supportsStatistics": false,
  "supportsOrderBy": false,
  "supportsDistinct": false,
  "supportsPagination": false
 },
 "spatialReference": {
  "wkid": 6372,
  "latestWkid": 6372
 }
}
