View In:
ArcGIS JavaScript
ArcGIS Online Map Viewer
ArcGIS Earth
Service Description: Datos/madmex_sentinel2_2017_17_tif
Name: Datos/madmex_sentinel2_2017_17_tif
Description:
Single Fused Map Cache: false
Extent:
XMin: 1054004.1559000001
YMin: 319120.27361000003
XMax: 4083024.1559
YMax: 2349650.27361
Spatial Reference: 0
(0)
LatestVCSWkid(0)
Initial Extent:
XMin: 1054004.1559000001
YMin: 319120.27361000003
XMax: 4083024.1559
YMax: 2349650.27361
Spatial Reference: 0
(0)
LatestVCSWkid(0)
Full Extent:
XMin: 1054004.1559000001
YMin: 319120.27361000003
XMax: 4083024.1559
YMax: 2349650.27361
Spatial Reference: 0
(0)
LatestVCSWkid(0)
Pixel Size X: 10.0
Pixel Size Y: 10.0
Band Count: 1
Pixel Type: U8
RasterFunction Infos: {"rasterFunctionInfos": [{
"name": "None",
"description": "",
"help": ""
}]}
Mensuration Capabilities: Basic
Inspection Capabilities:
Has Histograms: true
Has Colormap: false
Has Multi Dimensions : false
Rendering Rule:
Min Scale: 0
Max Scale: 0
Copyright Text:
Service Data Type: esriImageServiceDataTypeGeneric
Min Values: 1
Max Values: 17
Mean Values: 8.5926937934432
Standard Deviation Values: 4.5939674785748
Object ID Field:
Fields:
None
Default Mosaic Method: Center
Allowed Mosaic Methods:
SortField:
SortValue: null
Mosaic Operator: First
Default Compression Quality: 75
Default Resampling Method: Bilinear
Max Record Count: null
Max Image Height: 4100
Max Image Width: 15000
Max Download Image Count: null
Max Mosaic Image Count: null
Allow Raster Function: true
Allow Copy: true
Allow Analysis: true
Allow Compute TiePoints: false
Supports Statistics: false
Supports Advanced Queries: false
Use StandardizedQueries: true
Raster Type Infos:
Name: Raster Dataset
Description: Supports all ArcGIS Raster Datasets
Help:
Has Raster Attribute Table: false
Edit Fields Info: null
Ownership Based AccessControl For Rasters: null
Child Resources:
Info
Histograms
Statistics
Key Properties
Legend
Raster Function Infos
Supported Operations:
Export Image
Identify
Measure
Compute Histograms
Compute Statistics Histograms
Get Samples
Compute Class Statistics
Query Boundary
Compute Pixel Location
Compute Angles
Validate
Project