View In:
ArcGIS JavaScript
ArcGIS Online Map Viewer
ArcGIS Earth
Service Description: Datos/irdef_2018
Name: Datos/irdef_2018
Description:
Single Fused Map Cache: false
Extent:
XMin: 1085396.1932019978
YMin: 337610.66149656987
XMax: 4066896.193201998
YMax: 2349360.66149657
Spatial Reference: 0
(0)
LatestVCSWkid(0)
Initial Extent:
XMin: 1085396.1932019978
YMin: 337610.66149656987
XMax: 4066896.193201998
YMax: 2349360.66149657
Spatial Reference: 0
(0)
LatestVCSWkid(0)
Full Extent:
XMin: 1085396.1932019978
YMin: 337610.66149656987
XMax: 4066896.193201998
YMax: 2349360.66149657
Spatial Reference: 0
(0)
LatestVCSWkid(0)
Pixel Size X: 250.0
Pixel Size Y: 250.0
Band Count: 1
Pixel Type: S16
RasterFunction Infos: {"rasterFunctionInfos": [{
"name": "None",
"description": "",
"help": ""
}]}
Mensuration Capabilities: Basic
Inspection Capabilities:
Has Histograms: true
Has Colormap: false
Has Multi Dimensions : false
Rendering Rule:
Min Scale: 0
Max Scale: 0
Copyright Text:
Service Data Type: esriImageServiceDataTypeGeneric
Min Values: -3225
Max Values: 9973
Mean Values: 3511.3072365824282
Standard Deviation Values: 1099.9150070825542
Object ID Field:
Fields:
None
Default Mosaic Method: Center
Allowed Mosaic Methods:
SortField:
SortValue: null
Mosaic Operator: First
Default Compression Quality: 75
Default Resampling Method: Bilinear
Max Record Count: null
Max Image Height: 4100
Max Image Width: 15000
Max Download Image Count: null
Max Mosaic Image Count: null
Allow Raster Function: true
Allow Copy: true
Allow Analysis: true
Allow Compute TiePoints: false
Supports Statistics: false
Supports Advanced Queries: false
Use StandardizedQueries: true
Raster Type Infos:
Name: Raster Dataset
Description: Supports all ArcGIS Raster Datasets
Help:
Has Raster Attribute Table: true
Edit Fields Info: null
Ownership Based AccessControl For Rasters: null
Child Resources:
Info
Raster Attribute Table
Histograms
Statistics
Key Properties
Legend
Raster Function Infos
Supported Operations:
Export Image
Identify
Measure
Compute Histograms
Compute Statistics Histograms
Get Samples
Compute Class Statistics
Query Boundary
Compute Pixel Location
Compute Angles
Validate
Project