View In:
ArcGIS JavaScript
ArcGIS Online Map Viewer
ArcGIS Earth
Service Description: Datos/Tula_CEM
Name: Datos/Tula_CEM
Description:
Single Fused Map Cache: false
Extent:
XMin: 2758411.2558580004
YMin: 865924.0320579999
XMax: 2797903.5898060002
YMax: 921521.6995899999
Spatial Reference: 0
(0)
LatestVCSWkid(0)
Initial Extent:
XMin: 2758411.2558580004
YMin: 865924.0320579999
XMax: 2797903.5898060002
YMax: 921521.6995899999
Spatial Reference: 0
(0)
LatestVCSWkid(0)
Full Extent:
XMin: 2758411.2558580004
YMin: 865924.0320579999
XMax: 2797903.5898060002
YMax: 921521.6995899999
Spatial Reference: 0
(0)
LatestVCSWkid(0)
Pixel Size X: 28.555555999999903
Pixel Size Y: 28.555555999999996
Band Count: 1
Pixel Type: S32
RasterFunction Infos: {"rasterFunctionInfos": [{
"name": "None",
"description": "",
"help": ""
}]}
Mensuration Capabilities: Basic
Inspection Capabilities:
Has Histograms: true
Has Colormap: false
Has Multi Dimensions : false
Rendering Rule:
Min Scale: 0
Max Scale: 0
Copyright Text:
Service Data Type: esriImageServiceDataTypeGeneric
Min Values: 1922
Max Values: 3014
Mean Values: 2194.399845804449
Standard Deviation Values: 141.9723234100836
Object ID Field:
Fields:
None
Default Mosaic Method: Center
Allowed Mosaic Methods:
SortField:
SortValue: null
Mosaic Operator: First
Default Compression Quality: 75
Default Resampling Method: Bilinear
Max Record Count: null
Max Image Height: 4100
Max Image Width: 15000
Max Download Image Count: null
Max Mosaic Image Count: null
Allow Raster Function: true
Allow Copy: true
Allow Analysis: true
Allow Compute TiePoints: false
Supports Statistics: false
Supports Advanced Queries: false
Use StandardizedQueries: true
Raster Type Infos:
Name: Raster Dataset
Description: Supports all ArcGIS Raster Datasets
Help:
Has Raster Attribute Table: false
Edit Fields Info: null
Ownership Based AccessControl For Rasters: null
Child Resources:
Info
Histograms
Statistics
Key Properties
Legend
Raster Function Infos
Supported Operations:
Export Image
Identify
Measure
Compute Histograms
Compute Statistics Histograms
Get Samples
Compute Class Statistics
Query Boundary
Compute Pixel Location
Compute Angles
Validate
Project