View In:
ArcGIS JavaScript
ArcGIS Online Map Viewer
ArcGIS Earth
Service Description: Datos/Rio_Sonora_CEM_HillS
Name: Datos/Rio_Sonora_CEM_HillS
Description:
Single Fused Map Cache: false
Extent:
XMin: 1530065.458962
YMin: 1808914.1578460003
XMax: 1755026.12913
YMax: 2127051.6072420003
Spatial Reference: 0
(0)
LatestVCSWkid(0)
Initial Extent:
XMin: 1530065.458962
YMin: 1808914.1578460003
XMax: 1755026.12913
YMax: 2127051.6072420003
Spatial Reference: 0
(0)
LatestVCSWkid(0)
Full Extent:
XMin: 1530065.458962
YMin: 1808914.1578460003
XMax: 1755026.12913
YMax: 2127051.6072420003
Spatial Reference: 0
(0)
LatestVCSWkid(0)
Pixel Size X: 28.555556000000006
Pixel Size Y: 28.555556
Band Count: 1
Pixel Type: U8
RasterFunction Infos: {"rasterFunctionInfos": [{
"name": "None",
"description": "",
"help": ""
}]}
Mensuration Capabilities: Basic
Inspection Capabilities:
Has Histograms: true
Has Colormap: false
Has Multi Dimensions : false
Rendering Rule:
Min Scale: 0
Max Scale: 0
Copyright Text:
Service Data Type: esriImageServiceDataTypeGeneric
Min Values: 0
Max Values: 254
Mean Values: 164.75357971096383
Standard Deviation Values: 50.86559243426057
Object ID Field:
Fields:
None
Default Mosaic Method: Center
Allowed Mosaic Methods:
SortField:
SortValue: null
Mosaic Operator: First
Default Compression Quality: 75
Default Resampling Method: Bilinear
Max Record Count: null
Max Image Height: 4100
Max Image Width: 15000
Max Download Image Count: null
Max Mosaic Image Count: null
Allow Raster Function: true
Allow Copy: true
Allow Analysis: true
Allow Compute TiePoints: false
Supports Statistics: false
Supports Advanced Queries: false
Use StandardizedQueries: true
Raster Type Infos:
Name: Raster Dataset
Description: Supports all ArcGIS Raster Datasets
Help:
Has Raster Attribute Table: true
Edit Fields Info: null
Ownership Based AccessControl For Rasters: null
Child Resources:
Info
Raster Attribute Table
Histograms
Statistics
Key Properties
Legend
Raster Function Infos
Supported Operations:
Export Image
Identify
Measure
Compute Histograms
Compute Statistics Histograms
Get Samples
Compute Class Statistics
Query Boundary
Compute Pixel Location
Compute Angles
Validate
Project