View In:
ArcGIS JavaScript
ArcGIS Online Map Viewer
ArcGIS Earth
Service Description: Datos/Modelocartografico_diametro_Promedio_aarbolado
Name: Datos/Modelocartografico_diametro_Promedio_aarbolado
Description:
Single Fused Map Cache: false
Extent:
XMin: -123.32524905876424
YMin: 11.609878178647698
XMax: -83.39608497244953
YMax: 35.20112910948083
Spatial Reference: 4326
(4326)
LatestVCSWkid(0)
Initial Extent:
XMin: -123.32524905876424
YMin: 11.609878178647698
XMax: -83.39608497244953
YMax: 35.20112910948083
Spatial Reference: 4326
(4326)
LatestVCSWkid(0)
Full Extent:
XMin: -123.32524905876424
YMin: 11.609878178647698
XMax: -83.39608497244953
YMax: 35.20112910948083
Spatial Reference: 4326
(4326)
LatestVCSWkid(0)
Pixel Size X: 0.010230377680326598
Pixel Size Y: 0.010230377680326598
Band Count: 1
Pixel Type: F32
RasterFunction Infos: {"rasterFunctionInfos": [{
"name": "None",
"description": "",
"help": ""
}]}
Mensuration Capabilities: Basic
Inspection Capabilities:
Has Histograms: true
Has Colormap: false
Has Multi Dimensions : false
Rendering Rule:
Min Scale: 0
Max Scale: 0
Copyright Text:
Service Data Type: esriImageServiceDataTypeGeneric
Min Values: 4.058225749759E-5
Max Values: 29.463443756104
Mean Values: 7.2395490860478
Standard Deviation Values: 6.2883340088295
Object ID Field:
Fields:
None
Default Mosaic Method: Center
Allowed Mosaic Methods:
SortField:
SortValue: null
Mosaic Operator: First
Default Compression Quality: 75
Default Resampling Method: Bilinear
Max Record Count: null
Max Image Height: 4100
Max Image Width: 15000
Max Download Image Count: null
Max Mosaic Image Count: null
Allow Raster Function: true
Allow Copy: true
Allow Analysis: true
Allow Compute TiePoints: false
Supports Statistics: false
Supports Advanced Queries: false
Use StandardizedQueries: true
Raster Type Infos:
Name: Raster Dataset
Description: Supports all ArcGIS Raster Datasets
Help:
Has Raster Attribute Table: false
Edit Fields Info: null
Ownership Based AccessControl For Rasters: null
Child Resources:
Info
Histograms
Statistics
Key Properties
Legend
Raster Function Infos
Supported Operations:
Export Image
Identify
Measure
Compute Histograms
Compute Statistics Histograms
Get Samples
Compute Class Statistics
Query Boundary
Compute Pixel Location
Compute Angles
Validate
Project