View In:
ArcGIS JavaScript
ArcGIS Online Map Viewer
ArcGIS Earth
Service Description: Datos/Modelocartografico_densid_arbolado_2015_2020
Name: Datos/Modelocartografico_densid_arbolado_2015_2020
Description:
Single Fused Map Cache: false
Extent:
XMin: -125.21018298467942
YMin: 10.992461002666708
XMax: -81.35935447930765
YMax: 35.71774036179886
Spatial Reference: 4326
(4326)
LatestVCSWkid(0)
Initial Extent:
XMin: -125.21018298467942
YMin: 10.992461002666708
XMax: -81.35935447930765
YMax: 35.71774036179886
Spatial Reference: 4326
(4326)
LatestVCSWkid(0)
Full Extent:
XMin: -125.21018298467942
YMin: 10.992461002666708
XMax: -81.35935447930765
YMax: 35.71774036179886
Spatial Reference: 4326
(4326)
LatestVCSWkid(0)
Pixel Size X: 0.010293621714876001
Pixel Size Y: 0.010293621714876
Band Count: 1
Pixel Type: F32
RasterFunction Infos: {"rasterFunctionInfos": [{
"name": "None",
"description": "",
"help": ""
}]}
Mensuration Capabilities: Basic
Inspection Capabilities:
Has Histograms: true
Has Colormap: false
Has Multi Dimensions : false
Rendering Rule:
Min Scale: 0
Max Scale: 0
Copyright Text:
Service Data Type: esriImageServiceDataTypeGeneric
Min Values: 0.10405818372965
Max Values: 1427.8125
Mean Values: 145.53375587976
Standard Deviation Values: 237.83405817607
Object ID Field:
Fields:
None
Default Mosaic Method: Center
Allowed Mosaic Methods:
SortField:
SortValue: null
Mosaic Operator: First
Default Compression Quality: 75
Default Resampling Method: Bilinear
Max Record Count: null
Max Image Height: 4100
Max Image Width: 15000
Max Download Image Count: null
Max Mosaic Image Count: null
Allow Raster Function: true
Allow Copy: true
Allow Analysis: true
Allow Compute TiePoints: false
Supports Statistics: false
Supports Advanced Queries: false
Use StandardizedQueries: true
Raster Type Infos:
Name: Raster Dataset
Description: Supports all ArcGIS Raster Datasets
Help:
Has Raster Attribute Table: false
Edit Fields Info: null
Ownership Based AccessControl For Rasters: null
Child Resources:
Info
Histograms
Statistics
Key Properties
Legend
Raster Function Infos
Supported Operations:
Export Image
Identify
Measure
Compute Histograms
Compute Statistics Histograms
Get Samples
Compute Class Statistics
Query Boundary
Compute Pixel Location
Compute Angles
Validate
Project