View In:
ArcGIS JavaScript
ArcGIS Online Map Viewer
ArcGIS Earth
Service Description: Datos/CEM_Yucatan
Name: Datos/CEM_Yucatan
Description:
Single Fused Map Cache: false
Extent:
XMin: 3500655.822966
YMin: 897963.3658899999
XMax: 3994866.830658
YMax: 1227180.371014
Spatial Reference: 0
(0)
LatestVCSWkid(0)
Initial Extent:
XMin: 3500655.822966
YMin: 897963.3658899999
XMax: 3994866.830658
YMax: 1227180.371014
Spatial Reference: 0
(0)
LatestVCSWkid(0)
Full Extent:
XMin: 3500655.822966
YMin: 897963.3658899999
XMax: 3994866.830658
YMax: 1227180.371014
Spatial Reference: 0
(0)
LatestVCSWkid(0)
Pixel Size X: 28.555555999999996
Pixel Size Y: 28.555556000000003
Band Count: 1
Pixel Type: S32
RasterFunction Infos: {"rasterFunctionInfos": [{
"name": "None",
"description": "",
"help": ""
}]}
Mensuration Capabilities: Basic
Inspection Capabilities:
Has Histograms: true
Has Colormap: false
Has Multi Dimensions : false
Rendering Rule:
Min Scale: 0
Max Scale: 0
Copyright Text:
Service Data Type: esriImageServiceDataTypeGeneric
Min Values: 0
Max Values: 210
Mean Values: 26.30215306726542
Standard Deviation Values: 31.526949850132112
Object ID Field:
Fields:
None
Default Mosaic Method: Center
Allowed Mosaic Methods:
SortField:
SortValue: null
Mosaic Operator: First
Default Compression Quality: 75
Default Resampling Method: Bilinear
Max Record Count: null
Max Image Height: 4100
Max Image Width: 15000
Max Download Image Count: null
Max Mosaic Image Count: null
Allow Raster Function: true
Allow Copy: true
Allow Analysis: true
Allow Compute TiePoints: false
Supports Statistics: false
Supports Advanced Queries: false
Use StandardizedQueries: true
Raster Type Infos:
Name: Raster Dataset
Description: Supports all ArcGIS Raster Datasets
Help:
Has Raster Attribute Table: false
Edit Fields Info: null
Ownership Based AccessControl For Rasters: null
Child Resources:
Info
Histograms
Statistics
Key Properties
Legend
Raster Function Infos
Supported Operations:
Export Image
Identify
Measure
Compute Histograms
Compute Statistics Histograms
Get Samples
Compute Class Statistics
Query Boundary
Compute Pixel Location
Compute Angles
Validate
Project