View In:
ArcGIS JavaScript
ArcGIS Online Map Viewer
ArcGIS Earth
Service Description: Datos/Bosque_agua_CEM
Name: Datos/Bosque_agua_CEM
Description:
Single Fused Map Cache: false
Extent:
XMin: 2743733.7000740003
YMin: 768064.141646
XMax: 2827058.8124820003
YMax: 870778.476578
Spatial Reference: 0
(0)
LatestVCSWkid(0)
Initial Extent:
XMin: 2743733.7000740003
YMin: 768064.141646
XMax: 2827058.8124820003
YMax: 870778.476578
Spatial Reference: 0
(0)
LatestVCSWkid(0)
Full Extent:
XMin: 2743733.7000740003
YMin: 768064.141646
XMax: 2827058.8124820003
YMax: 870778.476578
Spatial Reference: 0
(0)
LatestVCSWkid(0)
Pixel Size X: 28.555556000000013
Pixel Size Y: 28.555556000000006
Band Count: 1
Pixel Type: S16
RasterFunction Infos: {"rasterFunctionInfos": [{
"name": "None",
"description": "",
"help": ""
}]}
Mensuration Capabilities: Basic
Inspection Capabilities:
Has Histograms: true
Has Colormap: false
Has Multi Dimensions : false
Rendering Rule:
Min Scale: 0
Max Scale: 0
Copyright Text:
Service Data Type: esriImageServiceDataTypeGeneric
Min Values: 1541
Max Values: 3930
Mean Values: 2926.4130362802457
Standard Deviation Values: 372.45342223643473
Object ID Field:
Fields:
None
Default Mosaic Method: Center
Allowed Mosaic Methods:
SortField:
SortValue: null
Mosaic Operator: First
Default Compression Quality: 75
Default Resampling Method: Bilinear
Max Record Count: null
Max Image Height: 4100
Max Image Width: 15000
Max Download Image Count: null
Max Mosaic Image Count: null
Allow Raster Function: true
Allow Copy: true
Allow Analysis: true
Allow Compute TiePoints: false
Supports Statistics: false
Supports Advanced Queries: false
Use StandardizedQueries: true
Raster Type Infos:
Name: Raster Dataset
Description: Supports all ArcGIS Raster Datasets
Help:
Has Raster Attribute Table: false
Edit Fields Info: null
Ownership Based AccessControl For Rasters: null
Child Resources:
Info
Histograms
Statistics
Key Properties
Legend
Raster Function Infos
Supported Operations:
Export Image
Identify
Measure
Compute Histograms
Compute Statistics Histograms
Get Samples
Compute Class Statistics
Query Boundary
Compute Pixel Location
Compute Angles
Validate
Project