<?xml version="1.0" encoding="UTF-8" standalone="no"?>
<metadata xml:lang="es">
<Esri>
<CreaDate>20130911</CreaDate>
<CreaTime>14171500</CreaTime>
<ArcGISFormat>1.0</ArcGISFormat>
<SyncOnce>FALSE</SyncOnce>
<DataProperties>
<lineage>
<Process Date="20130911" Time="141715" ToolSource="c:\program files\arcgis\desktop10.1\ArcToolbox\Toolboxes\Data Management Tools.tbx\CreateRasterDataset">CreateRasterDataset C:\Semarnatg\INEGI\Raster\Dstos_raster_INEGI.gdb CEM2 # 32_BIT_SIGNED # 1 # "PYRAMIDS -1 NEAREST DEFAULT 75 NO_SKIP" "128 128" LZ77 #</Process>
<Process Date="20130911" Time="144612" ToolSource="c:\program files\arcgis\desktop10.1\ArcToolbox\Toolboxes\Data Management Tools.tbx\Mosaic">Mosaic G:\respaldo_Semarnatg\INEGI\CEM\cem C:\Semarnatg\INEGI\Raster\Dstos_raster_INEGI.gdb\CEM LAST FIRST # # NONE 0 NONE</Process>
<Process Date="20130911" Time="145221" ToolSource="c:\program files\arcgis\desktop10.1\ArcToolbox\Toolboxes\Data Management Tools.tbx\CalculateStatistics">CalculateStatistics C:\Semarnatg\INEGI\Raster\Dstos_raster_INEGI.gdb\CEM 1 1 # OVERWRITE "Feature Set"</Process>
<Process Date="20230321" Time="105537" ToolSource="c:\program files\arcgis\pro\Resources\ArcToolbox\Toolboxes\Data Management Tools.tbx\CopyMultiple">CopyMultiple "D:\ANA\C\Semarnatg\INEGI\Raster\Dstos_raster_INEGI.gdb\CEM RasterDataset" D:\ERIK_2023\cem\CEM.gdb CEM "CEM RasterDataset CEM #"</Process>
<Process Date="20250507" Time="115132" ToolSource="c:\program files\arcgis\pro\Resources\ArcToolbox\toolboxes\Data Management Tools.tbx\Clip">Clip CEM "2770537.17927272 769564.61590687 2829252.32020053 817809.93185587" C:\Nueva_base\NUEVA_BASE\BASE_NUEVA.gdb\Bosque_ag_CEM "Bosque de agua" 2147483647 ClippingGeometry NO_MAINTAIN_EXTENT</Process>
</lineage>
<itemProps>
<itemName Sync="TRUE">Bosque_ag_CEM</itemName>
<imsContentType Sync="TRUE">002</imsContentType>
<nativeExtBox>
<westBL Sync="TRUE">2770518.811602</westBL>
<eastBL Sync="TRUE">2829257.590294</eastBL>
<southBL Sync="TRUE">769549.030558</southBL>
<northBL Sync="TRUE">817836.475754</northBL>
<exTypeCode Sync="TRUE">1</exTypeCode>
</nativeExtBox>
<itemLocation>
<linkage Sync="TRUE">file://\\410-M-D3-73QJX\Nueva_base\NUEVA_BASE\BASE_NUEVA.gdb</linkage>
<protocol Sync="TRUE">Local Area Network</protocol>
</itemLocation>
</itemProps>
<coordRef>
<type Sync="TRUE">Projected</type>
<geogcsn Sync="TRUE">GCS_GRS_1980</geogcsn>
<csUnits Sync="TRUE">Linear Unit: Meter (1.000000)</csUnits>
<projcsn Sync="TRUE">GRS_1980_Lambert_Conformal_Conic</projcsn>
<peXml Sync="TRUE">&lt;ProjectedCoordinateSystem xsi:type='typens:ProjectedCoordinateSystem' xmlns:xsi='http://www.w3.org/2001/XMLSchema-instance' xmlns:xs='http://www.w3.org/2001/XMLSchema' xmlns:typens='http://www.esri.com/schemas/ArcGIS/3.4.0'&gt;&lt;WKT&gt;PROJCS[&amp;quot;GRS_1980_Lambert_Conformal_Conic&amp;quot;,GEOGCS[&amp;quot;GCS_GRS_1980&amp;quot;,DATUM[&amp;quot;D_GRS_1980&amp;quot;,SPHEROID[&amp;quot;GRS_1980&amp;quot;,6378137.0,298.257222101]],PRIMEM[&amp;quot;Greenwich&amp;quot;,0.0],UNIT[&amp;quot;Degree&amp;quot;,0.0174532925199433]],PROJECTION[&amp;quot;Lambert_Conformal_Conic&amp;quot;],PARAMETER[&amp;quot;False_Easting&amp;quot;,2500000.0],PARAMETER[&amp;quot;False_Northing&amp;quot;,0.0],PARAMETER[&amp;quot;Central_Meridian&amp;quot;,-102.0],PARAMETER[&amp;quot;Standard_Parallel_1&amp;quot;,17.5],PARAMETER[&amp;quot;Standard_Parallel_2&amp;quot;,29.5],PARAMETER[&amp;quot;Latitude_Of_Origin&amp;quot;,12.0],UNIT[&amp;quot;Meter&amp;quot;,1.0]]&lt;/WKT&gt;&lt;XOrigin&gt;-37031600&lt;/XOrigin&gt;&lt;YOrigin&gt;-25743800&lt;/YOrigin&gt;&lt;XYScale&gt;113924041.20679393&lt;/XYScale&gt;&lt;ZOrigin&gt;-100000&lt;/ZOrigin&gt;&lt;ZScale&gt;10000&lt;/ZScale&gt;&lt;MOrigin&gt;-100000&lt;/MOrigin&gt;&lt;MScale&gt;10000&lt;/MScale&gt;&lt;XYTolerance&gt;0.001&lt;/XYTolerance&gt;&lt;ZTolerance&gt;0.001&lt;/ZTolerance&gt;&lt;MTolerance&gt;0.001&lt;/MTolerance&gt;&lt;HighPrecision&gt;true&lt;/HighPrecision&gt;&lt;/ProjectedCoordinateSystem&gt;</peXml>
</coordRef>
</DataProperties>
<SyncDate>20250507</SyncDate>
<SyncTime>11513200</SyncTime>
<ModDate>20250507</ModDate>
<ModTime>11513200</ModTime>
</Esri>
<dataIdInfo>
<envirDesc Sync="TRUE">Microsoft Windows 10 Version 10.0 (Build 19045) ; Esri ArcGIS 13.4.0.55405</envirDesc>
<dataLang>
<languageCode Sync="TRUE" value="spa"/>
<countryCode Sync="TRUE" value="MEX"/>
</dataLang>
<idCitation>
<resTitle Sync="TRUE">Bosque_ag_CEM</resTitle>
<presForm>
<PresFormCd Sync="TRUE" value="011"/>
</presForm>
</idCitation>
<spatRpType>
<SpatRepTypCd Sync="TRUE" value="002"/>
</spatRpType>
<dataExt>
<geoEle>
<GeoBndBox esriExtentType="search">
<exTypeCode Sync="TRUE">1</exTypeCode>
<westBL Sync="TRUE">-99.426462</westBL>
<eastBL Sync="TRUE">-98.857759</eastBL>
<northBL Sync="TRUE">19.336061</northBL>
<southBL Sync="TRUE">18.888226</southBL>
</GeoBndBox>
</geoEle>
</dataExt>
<idAbs/>
<idPurp/>
<idCredit/>
<resConst>
<Consts>
<useLimit/>
</Consts>
</resConst>
</dataIdInfo>
<mdLang>
<languageCode Sync="TRUE" value="spa"/>
<countryCode Sync="TRUE" value="MEX"/>
</mdLang>
<distInfo>
<distFormat>
<formatName Sync="TRUE">File Geodatabase Raster Dataset</formatName>
</distFormat>
</distInfo>
<mdHrLv>
<ScopeCd Sync="TRUE" value="005"/>
</mdHrLv>
<mdHrLvName Sync="TRUE">dataset</mdHrLvName>
<refSysInfo>
<RefSystem>
<refSysID>
<identCode Sync="TRUE" code="0"/>
</refSysID>
</RefSystem>
</refSysInfo>
<spdoinfo>
<rastinfo>
<rasttype Sync="TRUE">Pixel</rasttype>
<rowcount Sync="TRUE">1691</rowcount>
<colcount Sync="TRUE">2057</colcount>
<rastxsz Sync="TRUE">28.555556</rastxsz>
<rastysz Sync="TRUE">28.555556</rastysz>
<rastbpp Sync="TRUE">32</rastbpp>
<vrtcount Sync="TRUE">1</vrtcount>
<rastorig Sync="TRUE">Upper Left</rastorig>
<rastcmap Sync="TRUE">FALSE</rastcmap>
<rastcomp Sync="TRUE">LZ77</rastcomp>
<rastband Sync="TRUE">1</rastband>
<rastdtyp Sync="TRUE">pixel codes</rastdtyp>
<rastifor Sync="TRUE">FGDBR</rastifor>
<rastplyr Sync="TRUE">TRUE</rastplyr>
</rastinfo>
</spdoinfo>
<spref>
<horizsys>
<planar>
<planci>
<plance Sync="TRUE">row and column</plance>
<coordrep>
<absres Sync="TRUE">28.555556</absres>
<ordres Sync="TRUE">28.555556</ordres>
</coordrep>
</planci>
</planar>
</horizsys>
</spref>
<mdDateSt Sync="TRUE">20250507</mdDateSt>
</metadata>
